BEGIN:VCALENDAR
VERSION:2.0
PRODID:-//Bennett Day School - ECPv6.15.18//NONSGML v1.0//EN
CALSCALE:GREGORIAN
METHOD:PUBLISH
X-ORIGINAL-URL:https://bennettday.org
X-WR-CALDESC:Events for Bennett Day School
REFRESH-INTERVAL;VALUE=DURATION:PT1H
X-Robots-Tag:noindex
X-PUBLISHED-TTL:PT1H
BEGIN:VTIMEZONE
TZID:America/Chicago
BEGIN:DAYLIGHT
TZOFFSETFROM:-0600
TZOFFSETTO:-0500
TZNAME:CDT
DTSTART:20240310T080000
END:DAYLIGHT
BEGIN:STANDARD
TZOFFSETFROM:-0500
TZOFFSETTO:-0600
TZNAME:CST
DTSTART:20241103T070000
END:STANDARD
BEGIN:DAYLIGHT
TZOFFSETFROM:-0600
TZOFFSETTO:-0500
TZNAME:CDT
DTSTART:20250309T080000
END:DAYLIGHT
BEGIN:STANDARD
TZOFFSETFROM:-0500
TZOFFSETTO:-0600
TZNAME:CST
DTSTART:20251102T070000
END:STANDARD
BEGIN:DAYLIGHT
TZOFFSETFROM:-0600
TZOFFSETTO:-0500
TZNAME:CDT
DTSTART:20260308T080000
END:DAYLIGHT
BEGIN:STANDARD
TZOFFSETFROM:-0500
TZOFFSETTO:-0600
TZNAME:CST
DTSTART:20261101T070000
END:STANDARD
END:VTIMEZONE
BEGIN:VEVENT
DTSTART;TZID=America/Chicago:20250522T153000
DTEND;TZID=America/Chicago:20250522T163000
DTSTAMP:20260424T062450
CREATED:20241211T230209Z
LAST-MODIFIED:20241211T230209Z
UID:62290-1747927800-1747931400@bennettday.org
SUMMARY:Family BIPOC Affinity Space
DESCRIPTION:Meeting space in person
URL:https://bennettday.org/event/family-bipoc-affinity-space-6/
CATEGORIES:School Schedule
END:VEVENT
BEGIN:VEVENT
DTSTART;TZID=America/Chicago:20250522T183000
DTEND;TZID=America/Chicago:20250522T193000
DTSTAMP:20260424T062450
CREATED:20240926T163239Z
LAST-MODIFIED:20241205T224840Z
UID:61262-1747938600-1747942200@bennettday.org
SUMMARY:Community Address
DESCRIPTION:
URL:https://bennettday.org/event/community-address/
CATEGORIES:School Schedule
END:VEVENT
BEGIN:VEVENT
DTSTART;TZID=America/Chicago:20250522T193000
DTEND;TZID=America/Chicago:20250522T203000
DTSTAMP:20260424T062450
CREATED:20241127T221945Z
LAST-MODIFIED:20241205T224841Z
UID:62216-1747942200-1747945800@bennettday.org
SUMMARY:Family Social
DESCRIPTION:
URL:https://bennettday.org/event/family-social/
CATEGORIES:School Schedule
END:VEVENT
END:VCALENDAR