BEGIN:VCALENDAR
VERSION:2.0
PRODID:-//Bennett Day School - ECPv6.15.18//NONSGML v1.0//EN
CALSCALE:GREGORIAN
METHOD:PUBLISH
X-ORIGINAL-URL:https://bennettday.org
X-WR-CALDESC:Events for Bennett Day School
REFRESH-INTERVAL;VALUE=DURATION:PT1H
X-Robots-Tag:noindex
X-PUBLISHED-TTL:PT1H
BEGIN:VTIMEZONE
TZID:America/Chicago
BEGIN:DAYLIGHT
TZOFFSETFROM:-0600
TZOFFSETTO:-0500
TZNAME:CDT
DTSTART:20240310T080000
END:DAYLIGHT
BEGIN:STANDARD
TZOFFSETFROM:-0500
TZOFFSETTO:-0600
TZNAME:CST
DTSTART:20241103T070000
END:STANDARD
BEGIN:DAYLIGHT
TZOFFSETFROM:-0600
TZOFFSETTO:-0500
TZNAME:CDT
DTSTART:20250309T080000
END:DAYLIGHT
BEGIN:STANDARD
TZOFFSETFROM:-0500
TZOFFSETTO:-0600
TZNAME:CST
DTSTART:20251102T070000
END:STANDARD
BEGIN:DAYLIGHT
TZOFFSETFROM:-0600
TZOFFSETTO:-0500
TZNAME:CDT
DTSTART:20260308T080000
END:DAYLIGHT
BEGIN:STANDARD
TZOFFSETFROM:-0500
TZOFFSETTO:-0600
TZNAME:CST
DTSTART:20261101T070000
END:STANDARD
END:VTIMEZONE
BEGIN:VEVENT
DTSTART;VALUE=DATE:20250210
DTEND;VALUE=DATE:20250215
DTSTAMP:20260424T112122
CREATED:20240906T140317Z
LAST-MODIFIED:20241205T224822Z
UID:60527-1739145600-1739577599@bennettday.org
SUMMARY:Winter Spirit Week!
DESCRIPTION:
URL:https://bennettday.org/event/winter-spirit-week/
CATEGORIES:School Schedule
END:VEVENT
BEGIN:VEVENT
DTSTART;VALUE=DATE:20250212
DTEND;VALUE=DATE:20250213
DTSTAMP:20260424T112122
CREATED:20220913T161702Z
LAST-MODIFIED:20241003T141903Z
UID:60958-1739318400-1739404799@bennettday.org
SUMMARY:FA Sponsored Lunch
DESCRIPTION:
URL:https://bennettday.org/event/fa-sponsored-lunch/
CATEGORIES:Family Association
END:VEVENT
BEGIN:VEVENT
DTSTART;TZID=America/Chicago:20250212T090000
DTEND;TZID=America/Chicago:20250212T103000
DTSTAMP:20260424T112122
CREATED:20250115T172929Z
LAST-MODIFIED:20250115T172929Z
UID:62823-1739350800-1739356200@bennettday.org
SUMMARY:Admissions Coffee & Tour (PreK-8)
DESCRIPTION:This event will be most valuable for families interested in PreK-Grade 8 (parents/guardians only). Register now. \nWhat to Expect at our Admissions Coffee & Tour: \n\nTake a small-group tour of our PreK-12 campus in the West Loop/Fulton Market neighborhood\nHear directly from Leadership about what makes Bennett such an innovative & nurturing school community\nMeet & chat with current parents/guardians\nLearn more about our PreK-12 program and admissions process\nGet your questions answered\n\nIf you are interested in Grades 9-12 or would like to bring your child with you\, please schedule a private tour.
URL:https://bennettday.org/event/admissions-coffee-tour-prek-8-13/
LOCATION:Bennett Day School\, 955 W Grand Ave\, Chicago\, IL\, United States
CATEGORIES:Admissions,PreK-Grade 8
ATTACH;FMTTYPE=image/png:https://bennettday.org/wp-content/uploads/2024/03/bennett-day-school-events.png
END:VEVENT
BEGIN:VEVENT
DTSTART;TZID=America/Chicago:20250212T163000
DTEND;TZID=America/Chicago:20250212T163000
DTSTAMP:20260424T112122
CREATED:20250212T162911Z
LAST-MODIFIED:20250212T162911Z
UID:63297-1739377800-1739377800@bennettday.org
SUMMARY:CANCELLED - Basketball Girls - MS - Game Latin School of Chicago - Away
DESCRIPTION:
URL:https://bennettday.org/event/cancelled-basketball-girls-ms-game-latin-school-of-chicago-away/
LOCATION:Latin School of Chicago
CATEGORIES:Athletics
END:VEVENT
BEGIN:VEVENT
DTSTART;TZID=America/Chicago:20250212T163000
DTEND;TZID=America/Chicago:20250212T173000
DTSTAMP:20260424T112122
CREATED:20250212T162911Z
LAST-MODIFIED:20250212T162911Z
UID:63296-1739377800-1739381400@bennettday.org
SUMMARY:CANCELLED - Basketball - Boys - MS - Game Roycemore - Home
DESCRIPTION:
URL:https://bennettday.org/event/cancelled-basketball-boys-ms-game-roycemore-home/
LOCATION:Upper School Gym
CATEGORIES:Athletics
END:VEVENT
BEGIN:VEVENT
DTSTART;TZID=America/Chicago:20250212T173000
DTEND;TZID=America/Chicago:20250212T183000
DTSTAMP:20260424T112122
CREATED:20250212T162910Z
LAST-MODIFIED:20250212T162910Z
UID:63295-1739381400-1739385000@bennettday.org
SUMMARY:CANCELLED - Basketball - Boys - MS - Game Latin School of Chicago - Away
DESCRIPTION:
URL:https://bennettday.org/event/cancelled-basketball-boys-ms-game-latin-school-of-chicago-away/
LOCATION:Latin School of Chicago
CATEGORIES:Athletics
END:VEVENT
END:VCALENDAR