BEGIN:VCALENDAR
VERSION:2.0
PRODID:-//Bennett Day School - ECPv6.15.18//NONSGML v1.0//EN
CALSCALE:GREGORIAN
METHOD:PUBLISH
X-ORIGINAL-URL:https://bennettday.org
X-WR-CALDESC:Events for Bennett Day School
REFRESH-INTERVAL;VALUE=DURATION:PT1H
X-Robots-Tag:noindex
X-PUBLISHED-TTL:PT1H
BEGIN:VTIMEZONE
TZID:America/Chicago
BEGIN:DAYLIGHT
TZOFFSETFROM:-0600
TZOFFSETTO:-0500
TZNAME:CDT
DTSTART:20230312T080000
END:DAYLIGHT
BEGIN:STANDARD
TZOFFSETFROM:-0500
TZOFFSETTO:-0600
TZNAME:CST
DTSTART:20231105T070000
END:STANDARD
BEGIN:DAYLIGHT
TZOFFSETFROM:-0600
TZOFFSETTO:-0500
TZNAME:CDT
DTSTART:20240310T080000
END:DAYLIGHT
BEGIN:STANDARD
TZOFFSETFROM:-0500
TZOFFSETTO:-0600
TZNAME:CST
DTSTART:20241103T070000
END:STANDARD
BEGIN:DAYLIGHT
TZOFFSETFROM:-0600
TZOFFSETTO:-0500
TZNAME:CDT
DTSTART:20250309T080000
END:DAYLIGHT
BEGIN:STANDARD
TZOFFSETFROM:-0500
TZOFFSETTO:-0600
TZNAME:CST
DTSTART:20251102T070000
END:STANDARD
END:VTIMEZONE
BEGIN:VEVENT
DTSTART;TZID=America/Chicago:20241101T180000
DTEND;TZID=America/Chicago:20241101T200000
DTSTAMP:20260424T062010
CREATED:20240802T013154Z
LAST-MODIFIED:20241030T031656Z
UID:61403-1730484000-1730491200@bennettday.org
SUMMARY:PreK Simmons/Myrin Fall Dinner
DESCRIPTION:
URL:https://bennettday.org/event/prek-simmons-myrin-fall-dinner/
CATEGORIES:Family Association
END:VEVENT
BEGIN:VEVENT
DTSTART;TZID=America/Chicago:20241101T180000
DTEND;TZID=America/Chicago:20241101T200000
DTSTAMP:20260424T062010
CREATED:20241023T144740Z
LAST-MODIFIED:20241101T191706Z
UID:60857-1730484000-1730491200@bennettday.org
SUMMARY:Fall Play
DESCRIPTION:Come out for the latest production from Bennett’s Drama Department and our first-ever student-directed play featuring a twist on Grimms’ Fairy Tales. Showtimes are Friday\, November 1 from 6:00 – 8:00 pm\, and Saturday\, November 2 from 3:00 – 5:00 pm and 6:00 – 8:00 pm. 
URL:https://bennettday.org/event/fall-play-grimmerest/
LOCATION:Bennett Day School\, 955 W Grand Ave\, Chicago\, IL\, United States
CATEGORIES:Performing Arts,School Schedule
ATTACH;FMTTYPE=image/jpeg:https://bennettday.org/wp-content/uploads/2024/09/grimmerrest.jpg
END:VEVENT
END:VCALENDAR