BEGIN:VCALENDAR
VERSION:2.0
PRODID:-//Bennett Day School - ECPv6.15.18//NONSGML v1.0//EN
CALSCALE:GREGORIAN
METHOD:PUBLISH
X-WR-CALNAME:Bennett Day School
X-ORIGINAL-URL:https://bennettday.org
X-WR-CALDESC:Events for Bennett Day School
REFRESH-INTERVAL;VALUE=DURATION:PT1H
X-Robots-Tag:noindex
X-PUBLISHED-TTL:PT1H
BEGIN:VTIMEZONE
TZID:America/Chicago
BEGIN:DAYLIGHT
TZOFFSETFROM:-0600
TZOFFSETTO:-0500
TZNAME:CDT
DTSTART:20230312T080000
END:DAYLIGHT
BEGIN:STANDARD
TZOFFSETFROM:-0500
TZOFFSETTO:-0600
TZNAME:CST
DTSTART:20231105T070000
END:STANDARD
BEGIN:DAYLIGHT
TZOFFSETFROM:-0600
TZOFFSETTO:-0500
TZNAME:CDT
DTSTART:20240310T080000
END:DAYLIGHT
BEGIN:STANDARD
TZOFFSETFROM:-0500
TZOFFSETTO:-0600
TZNAME:CST
DTSTART:20241103T070000
END:STANDARD
BEGIN:DAYLIGHT
TZOFFSETFROM:-0600
TZOFFSETTO:-0500
TZNAME:CDT
DTSTART:20250309T080000
END:DAYLIGHT
BEGIN:STANDARD
TZOFFSETFROM:-0500
TZOFFSETTO:-0600
TZNAME:CST
DTSTART:20251102T070000
END:STANDARD
END:VTIMEZONE
BEGIN:VEVENT
DTSTART;TZID=America/Chicago:20241019T133000
DTEND;TZID=America/Chicago:20241019T150000
DTSTAMP:20260424T061920
CREATED:20240918T212914Z
LAST-MODIFIED:20241023T155406Z
UID:60261-1729344600-1729350000@bennettday.org
SUMMARY:Upper School Open House (9-12)
DESCRIPTION:This event will be most valuable for families interested in Grades 9-12. Register now. \nWhat to Expect at our Upper School Open House: \n\nTour our PreK-12 campus in the West Loop/Fulton Market neighborhood\nHear directly from faculty and students about what makes Bennett such an innovative & nurturing school community\nLearn more about our Upper School (9-12) program and admissions process\n\nInterested in PreK-Grade 8? Register for a PreK-8 Admissions Event.
URL:https://bennettday.org/event/upper-school-open-house-9-12/
LOCATION:Bennett Day School\, 955 W Grand Ave\, Chicago\, IL\, United States
CATEGORIES:Admissions,Grades 9-12
ATTACH;FMTTYPE=image/jpeg:https://bennettday.org/wp-content/uploads/2020/02/table-building-upper-school-4-scaled-1.jpg
END:VEVENT
BEGIN:VEVENT
DTSTART;TZID=America/Chicago:20241019T183000
DTEND;TZID=America/Chicago:20241019T210000
DTSTAMP:20260424T061920
CREATED:20240912T144942Z
LAST-MODIFIED:20240913T150311Z
UID:60716-1729362600-1729371600@bennettday.org
SUMMARY:JK McDonald/Thiel Fall Dinner
DESCRIPTION:
URL:https://bennettday.org/event/jk-mcdonald-thiel-fall-dinner/
CATEGORIES:School Schedule
END:VEVENT
END:VCALENDAR