BEGIN:VCALENDAR
VERSION:2.0
PRODID:-//Bennett Day School - ECPv6.15.18//NONSGML v1.0//EN
CALSCALE:GREGORIAN
METHOD:PUBLISH
X-ORIGINAL-URL:https://bennettday.org
X-WR-CALDESC:Events for Bennett Day School
REFRESH-INTERVAL;VALUE=DURATION:PT1H
X-Robots-Tag:noindex
X-PUBLISHED-TTL:PT1H
BEGIN:VTIMEZONE
TZID:America/Chicago
BEGIN:DAYLIGHT
TZOFFSETFROM:-0600
TZOFFSETTO:-0500
TZNAME:CDT
DTSTART:20230312T080000
END:DAYLIGHT
BEGIN:STANDARD
TZOFFSETFROM:-0500
TZOFFSETTO:-0600
TZNAME:CST
DTSTART:20231105T070000
END:STANDARD
BEGIN:DAYLIGHT
TZOFFSETFROM:-0600
TZOFFSETTO:-0500
TZNAME:CDT
DTSTART:20240310T080000
END:DAYLIGHT
BEGIN:STANDARD
TZOFFSETFROM:-0500
TZOFFSETTO:-0600
TZNAME:CST
DTSTART:20241103T070000
END:STANDARD
BEGIN:DAYLIGHT
TZOFFSETFROM:-0600
TZOFFSETTO:-0500
TZNAME:CDT
DTSTART:20250309T080000
END:DAYLIGHT
BEGIN:STANDARD
TZOFFSETFROM:-0500
TZOFFSETTO:-0600
TZNAME:CST
DTSTART:20251102T070000
END:STANDARD
END:VTIMEZONE
BEGIN:VEVENT
DTSTART;VALUE=DATE:20240508
DTEND;VALUE=DATE:20240511
DTSTAMP:20260423T080625
CREATED:20240327T204225Z
LAST-MODIFIED:20240510T171420Z
UID:58297-1715126400-1715385599@bennettday.org
SUMMARY:11th / 12th Trip - Boston
DESCRIPTION:11th/12th Boston \nFor our 11th and 12th-grade students\, we have planned an exciting trip to Boston on May 8-10\, 2024. This historic city offers a wealth of educational opportunities\, from exploring the roots of American history to immersing themselves in the thriving arts and culture scene. This trip serves as a fitting culmination of their upper school experience\, providing a platform for academic enrichment and personal growth.
URL:https://bennettday.org/event/11th-12th-trip-boston/
CATEGORIES:School Schedule
ORGANIZER;CN="events@bennettday.org":MAILTO:events@bennettday.org
END:VEVENT
BEGIN:VEVENT
DTSTART;TZID=America/Chicago:20240510T090000
DTEND;TZID=America/Chicago:20240510T103000
DTSTAMP:20260423T080625
CREATED:20240419T161917Z
LAST-MODIFIED:20240419T161917Z
UID:59009-1715331600-1715337000@bennettday.org
SUMMARY:Admissions Coffee & Tour (PreK-8)
DESCRIPTION:This event will be most valuable for families interested in PreK-Grade 8 (parents/guardians only). \nWhat to Expect at our Admissions Coffee & Tour: \n\nTake a small-group tour of our PreK-12 campus in the West Loop/Fulton Market neighborhood\nHear directly from Leadership about what makes Bennett such an innovative & nurturing school community\nMeet & chat with current parents/guardians\nLearn more about our PreK-12 program\, admissions process\, and campus expansion\nGet your questions answered directly\n\nIf you would like to bring your child with you\, please schedule a private tour. \nInterested in Grades 9-12? Register for an Upper School Admissions Event.
URL:https://bennettday.org/event/admissions-coffee-tour-prek-8-3/
LOCATION:Bennett Day School\, 955 W Grand Ave\, Chicago\, IL\, United States
CATEGORIES:Admissions,PreK-Grade 8
ATTACH;FMTTYPE=image/png:https://bennettday.org/wp-content/uploads/2024/03/bennett-day-school-events.png
END:VEVENT
END:VCALENDAR