BEGIN:VCALENDAR
VERSION:2.0
PRODID:-//Bennett Day School - ECPv6.15.18//NONSGML v1.0//EN
CALSCALE:GREGORIAN
METHOD:PUBLISH
X-WR-CALNAME:Bennett Day School
X-ORIGINAL-URL:https://bennettday.org
X-WR-CALDESC:Events for Bennett Day School
REFRESH-INTERVAL;VALUE=DURATION:PT1H
X-Robots-Tag:noindex
X-PUBLISHED-TTL:PT1H
BEGIN:VTIMEZONE
TZID:America/Chicago
BEGIN:DAYLIGHT
TZOFFSETFROM:-0600
TZOFFSETTO:-0500
TZNAME:CDT
DTSTART:20230312T080000
END:DAYLIGHT
BEGIN:STANDARD
TZOFFSETFROM:-0500
TZOFFSETTO:-0600
TZNAME:CST
DTSTART:20231105T070000
END:STANDARD
BEGIN:DAYLIGHT
TZOFFSETFROM:-0600
TZOFFSETTO:-0500
TZNAME:CDT
DTSTART:20240310T080000
END:DAYLIGHT
BEGIN:STANDARD
TZOFFSETFROM:-0500
TZOFFSETTO:-0600
TZNAME:CST
DTSTART:20241103T070000
END:STANDARD
BEGIN:DAYLIGHT
TZOFFSETFROM:-0600
TZOFFSETTO:-0500
TZNAME:CDT
DTSTART:20250309T080000
END:DAYLIGHT
BEGIN:STANDARD
TZOFFSETFROM:-0500
TZOFFSETTO:-0600
TZNAME:CST
DTSTART:20251102T070000
END:STANDARD
END:VTIMEZONE
BEGIN:VEVENT
DTSTART;TZID=America/Chicago:20240504T100000
DTEND;TZID=America/Chicago:20240504T104500
DTSTAMP:20260425T083057
CREATED:20240401T185244Z
LAST-MODIFIED:20240925T201404Z
UID:58796-1714816800-1714819500@bennettday.org
SUMMARY:Spring Fling Concert with Mr. Dave and Bennett Day School
DESCRIPTION:Spring is here! Join Bennett Day School for a celebration of song and dance with Mr. Dave! \nTickets: $10 per family \nAbout Mr. Dave: \nImbued with themes of love\, learning\, positivity\, and activity\, Mr. Dave revs up the fun-o-meter during his live shows! Known for creating unbeatable beats\, melodic elements\, and poetic rhymes\, he’ll inspire movement from the youngest to the oldest members of the family. Mr. Dave’s original songs include messages around diversity\, safety\, and acceptance\, plus\, the catchy tunes mean you and your littles will listen to them over and over again. \nDetails: \nWho: Children and accompanying adults\nWhere: Bennett Day School’s campus\nWhen: Saturday\, May 4 from 10:00 – 10:45 am
URL:https://bennettday.org/event/spring-fling-concert-with-mr-dave/
LOCATION:Bennett Day School\, 955 W Grand Ave\, Chicago\, IL\, United States
CATEGORIES:Community Events,Early Childhood,School Schedule
ATTACH;FMTTYPE=image/jpeg:https://bennettday.org/wp-content/uploads/2024/04/Spring-Fling-with-Mr-6x4-1.jpg
END:VEVENT
BEGIN:VEVENT
DTSTART;TZID=America/Chicago:20240504T180000
DTEND;TZID=America/Chicago:20240504T210000
DTSTAMP:20260425T083057
CREATED:20240327T204318Z
LAST-MODIFIED:20240925T201403Z
UID:58295-1714845600-1714856400@bennettday.org
SUMMARY:FA Spring Social
DESCRIPTION:The Spring Social Committee is excited to announce details of the Spring Social! We hope you can join us for a delightful parent’s night out. RSVP today!  \n\nWhere: Paradise Park\nWhen: Saturday\, May 4 6:00 – 9:00 pm\nDress: Cocktail/smart casual attire\nFood/drink: Appetizers\, pizza and unlimited beer\, wine\, and well cocktails\nCost: $80/person\, $10 raffle tickets available\n\nPayment can be sent via Zelle to fachairs@bennettday.org. If you don’t have Zelle please reach out to fachairs@bennettday.org and we can assist. Funds from ticket sales will pay for the event and raffle sales will go to fund future FA events.
URL:https://bennettday.org/event/fa-spring-social/
CATEGORIES:Community Events,Family Association,School Schedule
ORGANIZER;CN="mckensie.bartz@bennettday.org":MAILTO:mckensie.bartz@bennettday.org
END:VEVENT
END:VCALENDAR